BEGIN:VCALENDAR
VERSION:2.0
PRODID:-//Coloradói Magyar Klub - ECPv6.15.17//NONSGML v1.0//EN
CALSCALE:GREGORIAN
METHOD:PUBLISH
X-ORIGINAL-URL:https://huclub.org
X-WR-CALDESC:Events for Coloradói Magyar Klub
REFRESH-INTERVAL;VALUE=DURATION:PT1H
X-Robots-Tag:noindex
X-PUBLISHED-TTL:PT1H
BEGIN:VTIMEZONE
TZID:America/Denver
BEGIN:DAYLIGHT
TZOFFSETFROM:-0700
TZOFFSETTO:-0600
TZNAME:MDT
DTSTART:20210314T090000
END:DAYLIGHT
BEGIN:STANDARD
TZOFFSETFROM:-0600
TZOFFSETTO:-0700
TZNAME:MST
DTSTART:20211107T080000
END:STANDARD
BEGIN:DAYLIGHT
TZOFFSETFROM:-0700
TZOFFSETTO:-0600
TZNAME:MDT
DTSTART:20220313T090000
END:DAYLIGHT
BEGIN:STANDARD
TZOFFSETFROM:-0600
TZOFFSETTO:-0700
TZNAME:MST
DTSTART:20221106T080000
END:STANDARD
BEGIN:DAYLIGHT
TZOFFSETFROM:-0700
TZOFFSETTO:-0600
TZNAME:MDT
DTSTART:20230312T090000
END:DAYLIGHT
BEGIN:STANDARD
TZOFFSETFROM:-0600
TZOFFSETTO:-0700
TZNAME:MST
DTSTART:20231105T080000
END:STANDARD
END:VTIMEZONE
BEGIN:VEVENT
DTSTART;TZID=America/Denver:20220410T140000
DTEND;TZID=America/Denver:20220410T160000
DTSTAMP:20260423T232729
CREATED:20220403T212752Z
LAST-MODIFIED:20220403T212752Z
UID:2756-1649599200-1649606400@huclub.org
SUMMARY:Húsvéti Istentisztelet
DESCRIPTION:
URL:https://huclub.org/event/husveti-istentisztelet/
LOCATION:Platt Park Church\, 1601 S Clarkson Street\, Denver\, CO\, 80210\, United States
END:VEVENT
BEGIN:VEVENT
DTSTART;TZID=America/Denver:20220417T110000
DTEND;TZID=America/Denver:20220417T130000
DTSTAMP:20260423T232729
CREATED:20220403T212926Z
LAST-MODIFIED:20220403T212926Z
UID:2759-1650193200-1650200400@huclub.org
SUMMARY:Húsvéti Tojásfestés
DESCRIPTION:
URL:https://huclub.org/event/husveti-tojasfestes/
LOCATION:CO
END:VEVENT
BEGIN:VEVENT
DTSTART;TZID=America/Denver:20220423T100000
DTEND;TZID=America/Denver:20220423T120000
DTSTAMP:20260423T232729
CREATED:20220403T213111Z
LAST-MODIFIED:20220403T213111Z
UID:2762-1650708000-1650715200@huclub.org
SUMMARY:Játszóház Gyerekeknek
DESCRIPTION:
URL:https://huclub.org/event/jatszohaz-gyerekeknek/
LOCATION:Arvada Library\, 7525 W 57th Ave\, Arvada\, CO\, 80002\, United States
END:VEVENT
END:VCALENDAR